BEGIN:VCALENDAR
VERSION:2.0
PRODID:-//Plone.org//NONSGML plone.app.event//EN
X-WR-TIMEZONE:Europe/Berlin
BEGIN:VEVENT
SUMMARY:C++ User Group (2017/08)
DTSTART;TZID=Europe/Berlin:20170822T190000
DTEND;TZID=Europe/Berlin:20170822T210000
DTSTAMP:20260423T164311Z
UID:3f871e0a0ce54cf6a1e1269f5e181b3a@www.inet.haw-hamburg.de
CONTACT:Raphael Hiesgen\, raphael.hiesgen@haw-hamburg.de
CREATED:20170621T091306Z
DESCRIPTION:Meeting of the C++  User Group in Hamburg.
LAST-MODIFIED:20170621T091651Z
LOCATION:R11.60
URL:http://www.inet.haw-hamburg.de/events/community/copy12_of_c-user-group
 -2016-07
END:VEVENT
BEGIN:VTIMEZONE
TZID:Europe/Berlin
X-LIC-LOCATION:Europe/Berlin
BEGIN:DAYLIGHT
DTSTART:20170326T030000
TZNAME:CEST
TZOFFSETFROM:+0100
TZOFFSETTO:+0200
END:DAYLIGHT
END:VTIMEZONE
END:VCALENDAR
