BEGIN:VCALENDAR
VERSION:2.0
PRODID:-//Plone.org//NONSGML plone.app.event//EN
X-WR-TIMEZONE:Europe/Berlin
BEGIN:VEVENT
SUMMARY:IETF in Prague
DTSTART;TZID=Europe/Berlin:20231104T090000
DTEND;TZID=Europe/Berlin:20231110T170000
DTSTAMP:20260423T033411Z
UID:beb47f82f3a5486582f8578341aa036c@www.inet.haw-hamburg.de
CONTACT:Thomas Schmidt\, t.schmidt@haw-hamburg.de\, https://www.ietf.org/h
 ow/meetings/118/
CREATED:20231016T104125Z
DESCRIPTION:The Internet Engineering Task Force meets close by.\nA Hackath
 on Event (free of charge) will take place on Sat 4th and Sun 5th November.
LAST-MODIFIED:20231016T104132Z
LOCATION:Hilton Prague
URL:http://www.inet.haw-hamburg.de/events/conferences/ietf-in-prague
END:VEVENT
BEGIN:VTIMEZONE
TZID:Europe/Berlin
X-LIC-LOCATION:Europe/Berlin
BEGIN:STANDARD
DTSTART:20231029T020000
TZNAME:CET
TZOFFSETFROM:+0200
TZOFFSETTO:+0100
END:STANDARD
END:VTIMEZONE
END:VCALENDAR
