BEGIN:VCALENDAR
VERSION:2.0
PRODID:-//Plone.org//NONSGML plone.app.event//EN
X-WR-TIMEZONE:Europe/Berlin
BEGIN:VEVENT
SUMMARY:Bozheng Pang: My Story of Bluetooth Low Energy
DTSTART;TZID=Europe/Berlin:20240403T140000
DTEND;TZID=Europe/Berlin:20240403T150000
DTSTAMP:20260420T024506Z
UID:89cfbe120efa4ed082b36771ba389c8f@www.inet.haw-hamburg.de
CATEGORIES:INET Seminar
CONTACT:Thomas Schmidt\, t.schmidt@haw-hamburg.de
CREATED:20240328T085314Z
LAST-MODIFIED:20240403T164305Z
LOCATION:R 460
URL:http://www.inet.haw-hamburg.de/events/inet-seminar/bozheng-pang-my-sto
 ry-of-bluetooth-low-energy
END:VEVENT
BEGIN:VTIMEZONE
TZID:Europe/Berlin
X-LIC-LOCATION:Europe/Berlin
BEGIN:DAYLIGHT
DTSTART:20240331T030000
TZNAME:CEST
TZOFFSETFROM:+0100
TZOFFSETTO:+0200
END:DAYLIGHT
END:VTIMEZONE
END:VCALENDAR
