BEGIN:VCALENDAR
VERSION:2.0
PRODID:-//Plone.org//NONSGML plone.app.event//EN
X-WR-TIMEZONE:Europe/Berlin
BEGIN:VEVENT
SUMMARY:Lena Boeckmann: PSA Crypto  API in RIOT
DTSTART;TZID=Europe/Berlin:20220627T160000
DTEND;TZID=Europe/Berlin:20220627T170000
DTSTAMP:20260423T084114Z
UID:e0a17146a36c4249bc29bdc209aa3ae1@www.inet.haw-hamburg.de
CONTACT:Thomas Schmidt\, t.schmidt@haw-hamburg.de
CREATED:20220614T141807Z
DESCRIPTION:Integration of the PSA Crypto  API with Configurable Backends 
 in RIOT
LAST-MODIFIED:20220921T081630Z
LOCATION:R 460
URL:http://www.inet.haw-hamburg.de/events/inet-seminar/lena-boeckmann-psa-
 crypto-api-in-riot
END:VEVENT
BEGIN:VTIMEZONE
TZID:Europe/Berlin
X-LIC-LOCATION:Europe/Berlin
BEGIN:DAYLIGHT
DTSTART:20220327T030000
TZNAME:CEST
TZOFFSETFROM:+0100
TZOFFSETTO:+0200
END:DAYLIGHT
END:VTIMEZONE
END:VCALENDAR
