BEGIN:VCALENDAR
VERSION:2.0
PRODID:-//Plone.org//NONSGML plone.app.event//EN
X-WR-TIMEZONE:Europe/Berlin
BEGIN:VEVENT
SUMMARY:Michel Rottleuthner: Dynamic Clock Reconfiguration for the Constra
 ined IoT
DTSTART;TZID=Europe/Berlin:20220928T173000
DTEND;TZID=Europe/Berlin:20220928T183000
DTSTAMP:20260423T124338Z
UID:455c170cd7234f08998034e3c044aa05@www.inet.haw-hamburg.de
CATEGORIES:INET Seminar
CONTACT:Thomas Schmidt\, t.schmidt@haw-hamburg.de
CREATED:20220919T080304Z
DESCRIPTION:Dynamic Clock Reconfiguration for the Constrained IoT and its 
 Application to Energy-efficient Networking
LAST-MODIFIED:20221006T124702Z
LOCATION:R 460
URL:http://www.inet.haw-hamburg.de/events/inet-seminar/michel-rottleuthner
 -dynamic-clock-reconfiguration-for-the-constrained-iot
END:VEVENT
BEGIN:VTIMEZONE
TZID:Europe/Berlin
X-LIC-LOCATION:Europe/Berlin
BEGIN:DAYLIGHT
DTSTART:20220327T030000
TZNAME:CEST
TZOFFSETFROM:+0100
TZOFFSETTO:+0200
END:DAYLIGHT
END:VTIMEZONE
END:VCALENDAR
