BEGIN:VCALENDAR
VERSION:2.0
PRODID:-//Plone.org//NONSGML plone.app.event//EN
X-WR-TIMEZONE:Europe/Berlin
BEGIN:VEVENT
SUMMARY:Moritz Duge: Smart Grids -  A Case for Multicast-Enabled Home Gate
 ways?
DTSTART;TZID=Europe/Berlin:20130821T160000
DTEND;TZID=Europe/Berlin:20130821T170000
DTSTAMP:20260419T154246Z
UID:ba55274d3186d408fa879b3275ecd8da@www.inet.haw-hamburg.de
CATEGORIES:INET Seminar
CONTACT:Thomas Schmidt\, schmidt@informatik.haw-hamburg.de
CREATED:20130819T102038Z
DESCRIPTION:Consumer-Oriented Integration of Smart Homes and Smart Grids: 
 A Case for Multicast-Enabled Home Gateways?
LAST-MODIFIED:20140313T172026Z
LOCATION:Stiftstrasse
URL:http://www.inet.haw-hamburg.de/events/inet-seminar/moritz-duge-smart-g
 rids-a-case-for-multicast-enabled-home-gateways
END:VEVENT
BEGIN:VTIMEZONE
TZID:Europe/Berlin
X-LIC-LOCATION:Europe/Berlin
BEGIN:DAYLIGHT
DTSTART:20130331T030000
TZNAME:CEST
TZOFFSETFROM:+0100
TZOFFSETTO:+0200
END:DAYLIGHT
END:VTIMEZONE
END:VCALENDAR
