BEGIN:VCALENDAR
VERSION:2.0
PRODID:-//Plone.org//NONSGML plone.app.event//EN
X-WR-TIMEZONE:Europe/Berlin
BEGIN:VEVENT
SUMMARY:C++ User Group (2016/07)
DTSTART;TZID=Europe/Berlin:20160713T190000
DTEND;TZID=Europe/Berlin:20160713T210000
DTSTAMP:20260419T235053Z
UID:07e80ff078ef479f9f02dd35961b81f8@www.inet.haw-hamburg.de
CONTACT:Raphael Hiesgen\, raphael.hiesgen@haw-hamburg.de
CREATED:20160628T123257Z
DESCRIPTION:Meeting of the C++  User Group in Hamburg.
LAST-MODIFIED:20160628T124204Z
LOCATION:R11.60
URL:https://www.inet.haw-hamburg.de/events/community/c-user-group-2016-07
END:VEVENT
BEGIN:VTIMEZONE
TZID:Europe/Berlin
X-LIC-LOCATION:Europe/Berlin
BEGIN:DAYLIGHT
DTSTART:20160327T030000
TZNAME:CEST
TZOFFSETFROM:+0100
TZOFFSETTO:+0200
END:DAYLIGHT
END:VTIMEZONE
END:VCALENDAR
