BEGIN:VCALENDAR
VERSION:2.0
PRODID:-//Plone.org//NONSGML plone.app.event//EN
X-WR-TIMEZONE:Europe/Berlin
BEGIN:VEVENT
SUMMARY:C++ User Group (2018/01)
DTSTART;TZID=Europe/Berlin:20180110T190000
DTEND;TZID=Europe/Berlin:20180110T210000
DTSTAMP:20260420T153957Z
UID:ef39a260803b4e8a85e8a05b6f9a5f72@www.inet.haw-hamburg.de
CONTACT:Raphael Hiesgen\, raphael.hiesgen@haw-hamburg.de
CREATED:20171018T133648Z
DESCRIPTION:Meeting of the C++  User Group in Hamburg.
LAST-MODIFIED:20171018T134221Z
LOCATION:R11.60
URL:https://www.inet.haw-hamburg.de/events/community/copy16_of_c-user-grou
 p-2016-07
END:VEVENT
BEGIN:VTIMEZONE
TZID:Europe/Berlin
X-LIC-LOCATION:Europe/Berlin
BEGIN:STANDARD
DTSTART:20171029T020000
TZNAME:CET
TZOFFSETFROM:+0200
TZOFFSETTO:+0100
END:STANDARD
END:VTIMEZONE
END:VCALENDAR
