BEGIN:VCALENDAR
VERSION:2.0
PRODID:-//Plone.org//NONSGML plone.app.event//EN
X-WR-TIMEZONE:Europe/Berlin
BEGIN:VEVENT
SUMMARY:C++ User Group (2024/11)
DTSTART;TZID=Europe/Berlin:20241113T190000
DTEND;TZID=Europe/Berlin:20241113T210000
DTSTAMP:20260422T134410Z
UID:b3ab0401b0ea4704b8440291e110524f@www.inet.haw-hamburg.de
CONTACT:Raphael Hiesgen\, raphael.hiesgen@haw-hamburg.de
CREATED:20160725T113004Z
DESCRIPTION:Meeting of the C++  User Group in Hamburg.
LAST-MODIFIED:20240711T083454Z
LOCATION:R11.60
URL:https://www.inet.haw-hamburg.de/events/community/cpp-user-group-2024-1
 1
END:VEVENT
BEGIN:VTIMEZONE
TZID:Europe/Berlin
X-LIC-LOCATION:Europe/Berlin
BEGIN:STANDARD
DTSTART:20241027T020000
TZNAME:CET
TZOFFSETFROM:+0200
TZOFFSETTO:+0100
END:STANDARD
END:VTIMEZONE
END:VCALENDAR
