BEGIN:VCALENDAR
VERSION:2.0
PRODID:-//Plone.org//NONSGML plone.app.event//EN
X-WR-TIMEZONE:Europe/Berlin
BEGIN:VEVENT
SUMMARY:RIOT Hack'n'ACK (2017/11.2)
DTSTART;TZID=Europe/Berlin:20171128T170000
DTEND;TZID=Europe/Berlin:20171128T230000
DTSTAMP:20260419T235053Z
UID:b1e26ce7fc0f4fd1b123aa4c8994834f@www.inet.haw-hamburg.de
ATTENDEE;CN="Everyone who is interested in RIOT!";ROLE=REQ-PARTICIPANT:Eve
 ryone who is interested in RIOT!
CONTACT:Peter Kietzmann\, peter.kietzmann@haw-hamburg.de
CREATED:20170825T131225Z
DESCRIPTION:A "come-together" for all interested people to collectively wo
 rk on RIOT.
LAST-MODIFIED:20171104T102523Z
LOCATION:R 4.60
URL:https://www.inet.haw-hamburg.de/events/community/riot-hacknack-2017-11
END:VEVENT
BEGIN:VTIMEZONE
TZID:Europe/Berlin
X-LIC-LOCATION:Europe/Berlin
BEGIN:STANDARD
DTSTART:20171029T020000
TZNAME:CET
TZOFFSETFROM:+0200
TZOFFSETTO:+0100
END:STANDARD
END:VTIMEZONE
END:VCALENDAR
