BEGIN:VCALENDAR
VERSION:2.0
PRODID:-//Plone.org//NONSGML plone.app.event//EN
X-WR-TIMEZONE:Europe/Berlin
BEGIN:VEVENT
SUMMARY:RIOT Hack'n'ACK (2020/08)
DTSTART;TZID=Europe/Berlin:20200825T170000
DTEND;TZID=Europe/Berlin:20200825T230000
DTSTAMP:20260423T091318Z
UID:1eac41a247af4d6cbb874f0f9fce2564@www.inet.haw-hamburg.de
ATTENDEE;CN="Everyone who is interested in RIOT!";ROLE=REQ-PARTICIPANT:Eve
 ryone who is interested in RIOT!
CONTACT:Peter Kietzmann\, peter.kietzmann@haw-hamburg.de
CREATED:20190701T090924Z
DESCRIPTION:A virtual "come-together" for all interested people to collect
 ively work on RIOT.
LAST-MODIFIED:20200824T080600Z
LOCATION:https://meet.jit.si/riot-hacknack
URL:https://www.inet.haw-hamburg.de/events/community/riot-hacknack-2020-08
END:VEVENT
BEGIN:VTIMEZONE
TZID:Europe/Berlin
X-LIC-LOCATION:Europe/Berlin
BEGIN:DAYLIGHT
DTSTART:20200329T030000
TZNAME:CEST
TZOFFSETFROM:+0100
TZOFFSETTO:+0200
END:DAYLIGHT
END:VTIMEZONE
END:VCALENDAR
