BEGIN:VCALENDAR
VERSION:2.0
PRODID:-//Plone.org//NONSGML plone.app.event//EN
X-WR-TIMEZONE:Europe/Berlin
BEGIN:VEVENT
SUMMARY:RIOT Hack'n'ACK (2023/02)
DTSTART;TZID=Europe/Berlin:20230228T170000
DTEND;TZID=Europe/Berlin:20230228T230000
DTSTAMP:20260423T080818Z
UID:e926a5b2d6cc47f9b00e07c3e5ab6c24@www.inet.haw-hamburg.de
ATTENDEE;CN="Everyone who is interested in RIOT!";ROLE=REQ-PARTICIPANT:Eve
 ryone who is interested in RIOT!
CONTACT:Kevin Weiss\, weiss.kevin604@gmail.com
CREATED:20190701T090924Z
DESCRIPTION:A get-together for interested people to meet the community and
  hack on RIOT.
LAST-MODIFIED:20230228T102916Z
LOCATION:HAW Hamburg\, BT7\, R4.60
URL:https://www.inet.haw-hamburg.de/events/community/riot-hacknack-2023-02
 -28
END:VEVENT
BEGIN:VTIMEZONE
TZID:Europe/Berlin
X-LIC-LOCATION:Europe/Berlin
BEGIN:STANDARD
DTSTART:20221030T020000
TZNAME:CET
TZOFFSETFROM:+0200
TZOFFSETTO:+0100
END:STANDARD
END:VTIMEZONE
END:VCALENDAR
