BEGIN:VCALENDAR
VERSION:2.0
PRODID:-//Plone.org//NONSGML plone.app.event//EN
X-WR-TIMEZONE:Europe/Berlin
BEGIN:VEVENT
SUMMARY:RIOT Hack'n'ACK (2024/03)
DTSTART;TZID=Europe/Berlin:20240326T170000
DTSTAMP:20260422T030616Z
UID:8c4d931b8c8c46428d43aefa7c29684b@www.inet.haw-hamburg.de
ATTENDEE;CN="Everyone who is interested in RIOT!";ROLE=REQ-PARTICIPANT:Eve
 ryone who is interested in RIOT!
CONTACT:Kevin Weiss\, kevin.weiss@haw-hamburg.de
CREATED:20190701T090924Z
DESCRIPTION:A get-together for interested people to meet the community and
  hack on RIOT.
LAST-MODIFIED:20240319T092058Z
LOCATION:HAW Hamburg\, BT7\, R4.60
URL:https://www.inet.haw-hamburg.de/events/community/riot-hacknack-2024-03
 -26
END:VEVENT
BEGIN:VTIMEZONE
TZID:Europe/Berlin
X-LIC-LOCATION:Europe/Berlin
BEGIN:STANDARD
DTSTART:20231029T020000
TZNAME:CET
TZOFFSETFROM:+0200
TZOFFSETTO:+0100
END:STANDARD
END:VTIMEZONE
END:VCALENDAR
