BEGIN:VCALENDAR
VERSION:2.0
PRODID:-//Plone.org//NONSGML plone.app.event//EN
X-WR-TIMEZONE:Europe/Berlin
BEGIN:VEVENT
SUMMARY:RIOT Summit
DTSTART;TZID=Europe/Berlin:20220905T100000
DTEND;TZID=Europe/Berlin:20220906T180000
DTSTAMP:20260423T174138Z
UID:ea15e7f2dcb2444eb257bde761e1110d@www.inet.haw-hamburg.de
CONTACT:Thomas Schmidt\, t.schmidt@haw-hamburg.de\, https://summit.riot-os
 .org/2022/
CREATED:20220612T114422Z
LAST-MODIFIED:20220612T114551Z
LOCATION:HAW Hamburg\, Berliner Tor 5
URL:https://www.inet.haw-hamburg.de/events/community/riot-summit
END:VEVENT
BEGIN:VTIMEZONE
TZID:Europe/Berlin
X-LIC-LOCATION:Europe/Berlin
BEGIN:DAYLIGHT
DTSTART:20220327T030000
TZNAME:CEST
TZOFFSETFROM:+0100
TZOFFSETTO:+0200
END:DAYLIGHT
END:VTIMEZONE
END:VCALENDAR
