BEGIN:VCALENDAR
VERSION:2.0
PRODID:-//Plone.org//NONSGML plone.app.event//EN
X-WR-TIMEZONE:Europe/Berlin
BEGIN:VEVENT
SUMMARY:74th IETF
DTSTART;TZID=Europe/Berlin:20090322T014500
DTEND;TZID=Europe/Berlin:20090327T014500
DTSTAMP:20260419T230930Z
UID:cc04135148351c2c6d47e6bae2d38d67@www.inet.haw-hamburg.de
CATEGORIES:Conference
CONTACT:http://www.ietf.org/meetings/74/
CREATED:20090301T004327Z
LAST-MODIFIED:20090301T004333Z
LOCATION:San Francisco\, USA
URL:https://www.inet.haw-hamburg.de/events/conferences/74th-ietf
END:VEVENT
BEGIN:VTIMEZONE
TZID:Europe/Berlin
X-LIC-LOCATION:Europe/Berlin
BEGIN:STANDARD
DTSTART:20081026T020000
TZNAME:CET
TZOFFSETFROM:+0200
TZOFFSETTO:+0100
END:STANDARD
END:VTIMEZONE
END:VCALENDAR
