BEGIN:VCALENDAR
VERSION:2.0
PRODID:-//Plone.org//NONSGML plone.app.event//EN
X-WR-TIMEZONE:Europe/Berlin
BEGIN:VEVENT
SUMMARY:IEFT 104 in Prague
DTSTART;TZID=Europe/Berlin:20190323T080000
DTEND;TZID=Europe/Berlin:20190329T160000
DTSTAMP:20260420T131056Z
UID:5aa86ac1aa424e3892515c87e4ea9883@www.inet.haw-hamburg.de
CONTACT:Thomas Schmidt\, t.schmidt@haw-hamburg.de\, https://www.ietf.org/h
 ow/meetings/104/
CREATED:20190112T171951Z
LAST-MODIFIED:20190112T171956Z
LOCATION:Prague
URL:https://www.inet.haw-hamburg.de/events/conferences/ieft-104-in-prague
END:VEVENT
BEGIN:VTIMEZONE
TZID:Europe/Berlin
X-LIC-LOCATION:Europe/Berlin
BEGIN:STANDARD
DTSTART:20181028T020000
TZNAME:CET
TZOFFSETFROM:+0200
TZOFFSETTO:+0100
END:STANDARD
END:VTIMEZONE
END:VCALENDAR
