BEGIN:VCALENDAR
VERSION:2.0
PRODID:-//Plone.org//NONSGML plone.app.event//EN
X-WR-TIMEZONE:Europe/Berlin
BEGIN:VEVENT
SUMMARY:TMA Conference 2022
DTSTART;TZID=Europe/Berlin:20220627T090000
DTEND;TZID=Europe/Berlin:20220701T170000
DTSTAMP:20260423T052050Z
UID:0a425215770b497684d4146f541152fe@www.inet.haw-hamburg.de
CONTACT:Thomas Schmidt\, t.schmidt@haw-hamburg.de\, https://tma.ifip.org/2
 022
CREATED:20220510T150149Z
LAST-MODIFIED:20220510T150241Z
LOCATION:University of Twente
URL:https://www.inet.haw-hamburg.de/events/conferences/tma-conference-2022
END:VEVENT
BEGIN:VTIMEZONE
TZID:Europe/Berlin
X-LIC-LOCATION:Europe/Berlin
BEGIN:DAYLIGHT
DTSTART:20220327T030000
TZNAME:CEST
TZOFFSETFROM:+0100
TZOFFSETTO:+0200
END:DAYLIGHT
END:VTIMEZONE
END:VCALENDAR
