BEGIN:VCALENDAR
VERSION:2.0
PRODID:-//Plone.org//NONSGML plone.app.event//EN
X-WR-TIMEZONE:Europe/Berlin
BEGIN:VEVENT
SUMMARY:Lange Nacht der Wissenschaften
DTSTART;TZID=Europe/Berlin:20090613T170000
DTEND;TZID=Europe/Berlin:20090614T010000
DTSTAMP:20260424T041834Z
UID:b6b35e999d36487c9a4ca4dd2394fe4e@www.inet.haw-hamburg.de
CATEGORIES:Exhibition
CONTACT:Matthias Wählisch\, waehlisch@ieee.org\, http://www.langenachtder
 wissenschaften.de/
CREATED:20090605T171552Z
DESCRIPTION:At the "Lange Nacht der Wissenschaften" in Berlin we present o
 ur project Moviecast.
LAST-MODIFIED:20090605T172223Z
LOCATION:FU Berlin\, Takustr. 9\, 14195 Berlin
URL:https://www.inet.haw-hamburg.de/events/exhibitions/lange-nacht-der-wis
 senschaften
END:VEVENT
BEGIN:VTIMEZONE
TZID:Europe/Berlin
X-LIC-LOCATION:Europe/Berlin
BEGIN:DAYLIGHT
DTSTART:20090329T030000
TZNAME:CEST
TZOFFSETFROM:+0100
TZOFFSETTO:+0200
END:DAYLIGHT
END:VTIMEZONE
END:VCALENDAR
