BEGIN:VCALENDAR
VERSION:2.0
PRODID:-//Plone.org//NONSGML plone.app.event//EN
X-WR-TIMEZONE:Europe/Berlin
BEGIN:VEVENT
SUMMARY:RIOT Demo@Linux Tag 2014
DTSTART;TZID=Europe/Berlin:20140508T090000
DTEND;TZID=Europe/Berlin:20140510T180000
DTSTAMP:20260423T115151Z
UID:ea53dfa0597efe76b4901eb18870229c@www.inet.haw-hamburg.de
CATEGORIES:Exhibition
CONTACT:Thomas Schmidt\, schmidt@informatik.haw-hamburg.de\, http://www.li
 nuxtag.org/2014/
CREATED:20140502T152758Z
DESCRIPTION:RIOT - the friendly OS for the IOT - will be on display at the
  LinuxTag in Berlin
LAST-MODIFIED:20140502T162056Z
LOCATION:STATION Berlin\, Germany
URL:https://www.inet.haw-hamburg.de/events/exhibitions/riot-demo-linuxtag-
 2014
END:VEVENT
BEGIN:VTIMEZONE
TZID:Europe/Berlin
X-LIC-LOCATION:Europe/Berlin
BEGIN:DAYLIGHT
DTSTART:20140330T030000
TZNAME:CEST
TZOFFSETFROM:+0100
TZOFFSETTO:+0200
END:DAYLIGHT
END:VTIMEZONE
END:VCALENDAR
