BEGIN:VCALENDAR
VERSION:2.0
PRODID:-//Plone.org//NONSGML plone.app.event//EN
X-WR-TIMEZONE:Europe/Berlin
BEGIN:VEVENT
SUMMARY:RIOT@Embedded World 2017
DTSTART;TZID=Europe/Berlin:20170314T094000
DTEND;TZID=Europe/Berlin:20170316T174000
DTSTAMP:20260423T090235Z
UID:6645359b669b4de68df00c74103829f6@www.inet.haw-hamburg.de
CONTACT:https://www.embedded-world.de/
CREATED:20170227T214452Z
DESCRIPTION:We present RIOT at the Embedded World in Nuremberg. Visit us a
 t the dedicated booth (hall 4 stand 4-168) hosted by our\ncolleagues from 
 OSADL (Open Source Automation Development Lab). 
LAST-MODIFIED:20170306T161521Z
LOCATION:Nuremberg Germany
URL:https://www.inet.haw-hamburg.de/events/exhibitions/riot-embedded-world
 -2017
END:VEVENT
BEGIN:VTIMEZONE
TZID:Europe/Berlin
X-LIC-LOCATION:Europe/Berlin
BEGIN:STANDARD
DTSTART:20161030T020000
TZNAME:CET
TZOFFSETFROM:+0200
TZOFFSETTO:+0100
END:STANDARD
END:VTIMEZONE
END:VCALENDAR
