BEGIN:VCALENDAR
VERSION:2.0
PRODID:-//Plone.org//NONSGML plone.app.event//EN
X-WR-TIMEZONE:Europe/Berlin
BEGIN:VEVENT
SUMMARY:Nora Berg: Integration von Ariba/MCPO in HAMcast
DTSTART;TZID=Europe/Berlin:20130109T161500
DTEND;TZID=Europe/Berlin:20130109T171500
DTSTAMP:20260420T040406Z
UID:b186fecc3707f5e3a86bf1ba50719625@www.inet.haw-hamburg.de
CATEGORIES:INET Seminar
CONTACT:Thomas Schmidt\, schmidt@informatik.haw-hamburg.de
CREATED:20121231T072245Z
DESCRIPTION:Integration des Overlay-Multicast-Dienstes Ariba/MCPO in die h
 ybride Multicast-Plattform HAMcast
LAST-MODIFIED:20130404T072133Z
LOCATION:12.60
URL:https://www.inet.haw-hamburg.de/events/inet-seminar/nora-berg-integrat
 ion-von-ariba-mcpo-in-hamcast
END:VEVENT
BEGIN:VTIMEZONE
TZID:Europe/Berlin
X-LIC-LOCATION:Europe/Berlin
BEGIN:STANDARD
DTSTART:20121028T020000
TZNAME:CET
TZOFFSETFROM:+0200
TZOFFSETTO:+0100
END:STANDARD
END:VTIMEZONE
END:VCALENDAR
